BEGIN:VCALENDAR
VERSION:2.0
PRODID:-//81.88.36.52//NONSGML kigkonsult.se iCalcreator 2.20//
CALSCALE:GREGORIAN
METHOD:PUBLISH
X-WR-TIMEZONE:Europe/Vienna
BEGIN:VEVENT
UID:event413@Online-Magazin SCHNAPPEN.AT: die interessanten Seiten des Lebe
 ns
DTSTAMP:20260425T122206Z
CATEGORIES:Veranstaltungen
DESCRIPTION:13. International Sports Car Club Weekend in Rust 2026\nKategor
 ie: Veranstaltungen\nICS-Link: https://schnappen.at/oesterreich/index.php?
 option=com_jem&view=event&id=413:sports-car\n
DTSTART;VALUE=DATE:20260829
DTEND;VALUE=DATE:20260831
LOCATION:Rust am Neusiedlersee\,Hauptstraße\,7071 rust
SUMMARY:13. International Sports Car Club Weekend in Rust 2026
URL:https://schnappen.at/oesterreich/index.php?option=com_jem&view=event&id
 =413:sports-car
END:VEVENT
END:VCALENDAR