BEGIN:VCALENDAR
VERSION:2.0
PRODID:-//81.88.36.52//NONSGML kigkonsult.se iCalcreator 2.20//
CALSCALE:GREGORIAN
METHOD:PUBLISH
X-WR-TIMEZONE:Europe/Vienna
BEGIN:VEVENT
UID:event412@Online-Magazin SCHNAPPEN.AT: die interessanten Seiten des Lebe
 ns
DTSTAMP:20260425T121207Z
CATEGORIES:Veranstaltungen
DESCRIPTION:Konzert in der Fischerkirche Rust\nKategorie: Veranstaltungen\n
 ICS-Link: https://schnappen.at/oesterreich/index.php?option=com_jem&view=e
 vent&id=412:rust\n
DTSTART;VALUE=DATE:20260905
DTEND;VALUE=DATE:20260906
LOCATION:Rust am Neusiedlersee\,Hauptstraße\,7071 rust
SUMMARY:Konzert in der Fischerkirche Rust
URL:https://schnappen.at/oesterreich/index.php?option=com_jem&view=event&id
 =412:rust
END:VEVENT
END:VCALENDAR