BEGIN:VCALENDAR
VERSION:2.0
PRODID:-//81.88.36.52//NONSGML kigkonsult.se iCalcreator 2.20//
CALSCALE:GREGORIAN
METHOD:PUBLISH
X-WR-TIMEZONE:Europe/Vienna
BEGIN:VEVENT
UID:event411@Online-Magazin SCHNAPPEN.AT: die interessanten Seiten des Lebe
 ns
DTSTAMP:20260425T121822Z
CATEGORIES:Flohmarkt\, Oldtimer\, Veranstaltungen
DESCRIPTION:Ausstellungen & Oldtimer-Museen\nKategorie: Flohmarkt\, Oldtime
 r\, Veranstaltungen\nICS-Link: https://schnappen.at/oesterreich/index.php?
 option=com_jem&view=event&id=411:ausstellung-oldtimer\n
DTSTART;VALUE=DATE:20260425
DTEND;VALUE=DATE:20260426
SUMMARY:Ausstellungen & Oldtimer-Museen
URL:https://schnappen.at/oesterreich/index.php?option=com_jem&view=event&id
 =411:ausstellung-oldtimer
END:VEVENT
END:VCALENDAR