BEGIN:VCALENDAR
VERSION:2.0
PRODID:-//81.88.36.52//NONSGML kigkonsult.se iCalcreator 2.20//
CALSCALE:GREGORIAN
METHOD:PUBLISH
X-WR-TIMEZONE:Europe/Vienna
BEGIN:VEVENT
UID:event410@Online-Magazin SCHNAPPEN.AT: die interessanten Seiten des Lebe
 ns
DTSTAMP:20260425T121829Z
CATEGORIES:Veranstaltungen
DESCRIPTION:Scott Bradlee's Postmodern Jukebox in Österreich und Deutschlan
 d\nKategorie: Veranstaltungen\nICS-Link: https://schnappen.at/oesterreich/
 index.php?option=com_jem&view=event&id=410:scott-bradlee\n
DTSTART;TZID=Europe/Vienna:20260504T200000
DTEND;TZID=Europe/Vienna:20260504T200000
SUMMARY:Scott Bradlee's Postmodern Jukebox in Österreich und Deutschland
URL:https://schnappen.at/oesterreich/index.php?option=com_jem&view=event&id
 =410:scott-bradlee
END:VEVENT
END:VCALENDAR