BEGIN:VCALENDAR
VERSION:2.0
PRODID:-//81.88.36.52//NONSGML kigkonsult.se iCalcreator 2.20//
CALSCALE:GREGORIAN
METHOD:PUBLISH
X-WR-TIMEZONE:Europe/Vienna
BEGIN:VEVENT
UID:event406@Online-Magazin SCHNAPPEN.AT: die interessanten Seiten des Lebe
 ns
DTSTAMP:20260425T121818Z
CATEGORIES:Veranstaltungen
DESCRIPTION:Thommy Ten & Amelie van Tass\nKategorie: Veranstaltungen\nICS-L
 ink: https://schnappen.at/oesterreich/index.php?option=com_jem&view=event&
 id=406:magier\n
DTSTART;VALUE=DATE:20260830
DTEND;VALUE=DATE:20260831
LOCATION:Staatsoper Wien\,Opernring 2\,1010 Wien
SUMMARY:Thommy Ten & Amelie van Tass
URL:https://schnappen.at/oesterreich/index.php?option=com_jem&view=event&id
 =406:magier
END:VEVENT
END:VCALENDAR