BEGIN:VCALENDAR
VERSION:2.0
PRODID:-//81.88.36.52//NONSGML kigkonsult.se iCalcreator 2.20//
CALSCALE:GREGORIAN
METHOD:PUBLISH
X-WR-TIMEZONE:Europe/Vienna
BEGIN:VEVENT
UID:event402@Online-Magazin SCHNAPPEN.AT: die interessanten Seiten des Lebe
 ns
DTSTAMP:20260425T121946Z
CATEGORIES:Termine noch offen
DESCRIPTION:Nacht der keltische Feuer in Asparn\nKategorie: Termine noch of
 fen\nICS-Link: https://schnappen.at/oesterreich/index.php?option=com_jem&v
 iew=event&id=402:keltentreffen\n
DTSTART;VALUE=DATE:20261010
DTEND;VALUE=DATE:20261011
SUMMARY:Nacht der keltische Feuer in Asparn
URL:https://schnappen.at/oesterreich/index.php?option=com_jem&view=event&id
 =402:keltentreffen
END:VEVENT
END:VCALENDAR