BEGIN:VCALENDAR
VERSION:2.0
PRODID:-//81.88.36.52//NONSGML kigkonsult.se iCalcreator 2.20//
CALSCALE:GREGORIAN
METHOD:PUBLISH
X-WR-TIMEZONE:Europe/Vienna
BEGIN:VEVENT
UID:event3@Online-Magazin SCHNAPPEN.AT: die interessanten Seiten des Lebens
DTSTAMP:20260425T122241Z
CATEGORIES:Veranstaltungen\, Heurigentermine
DESCRIPTION:Genussmeile Thermenregion Wienerwald\nKategorie: Veranstaltunge
 n\, Heurigentermine\nICS-Link: https://schnappen.at/oesterreich/index.php?
 option=com_jem&view=event&id=3:thermenregion-wienerwald\n
DTSTART;VALUE=DATE:20260905
DTEND;VALUE=DATE:20260907
SUMMARY:Genussmeile Thermenregion Wienerwald
URL:https://schnappen.at/oesterreich/index.php?option=com_jem&view=event&id
 =3:thermenregion-wienerwald
END:VEVENT
END:VCALENDAR