BEGIN:VCALENDAR
VERSION:2.0
PRODID:-//81.88.36.52//NONSGML kigkonsult.se iCalcreator 2.20//
CALSCALE:GREGORIAN
METHOD:PUBLISH
X-WR-TIMEZONE:Europe/Vienna
BEGIN:VEVENT
UID:event370@Online-Magazin SCHNAPPEN.AT: die interessanten Seiten des Lebe
 ns
DTSTAMP:20260425T134205Z
CATEGORIES:Flohmarkt\, Oldtimer
DESCRIPTION:Flohmarkt Wr. Neustadt\nKategorie: Flohmarkt\, Oldtimer\nICS-Li
 nk: https://schnappen.at/oesterreich/index.php?option=com_jem&view=event&i
 d=370:flohmarkt-wiener-neustadt\n
DTSTART;VALUE=DATE:20260830
DTEND;VALUE=DATE:20260831
LOCATION:Cine Nova Center Parkplatz Wr. Neustadt\,Stadionstr. 42\,2700 Wr. 
 Neustadt
SUMMARY:Flohmarkt Wr. Neustadt
URL:https://schnappen.at/oesterreich/index.php?option=com_jem&view=event&id
 =370:flohmarkt-wiener-neustadt
END:VEVENT
END:VCALENDAR