BEGIN:VCALENDAR
VERSION:2.0
PRODID:-//81.88.36.52//NONSGML kigkonsult.se iCalcreator 2.20//
CALSCALE:GREGORIAN
METHOD:PUBLISH
X-WR-TIMEZONE:Europe/Vienna
BEGIN:VEVENT
UID:event362@Online-Magazin SCHNAPPEN.AT: die interessanten Seiten des Lebe
 ns
DTSTAMP:20260425T121916Z
CATEGORIES:Wir berichten über...\, Veranstaltungen
DESCRIPTION:Seefestspiele Mörbisch 2026: Premiere 'Ein Käfig voller Narren'
 \nKategorie: Wir berichten über...\, Veranstaltungen\nICS-Link: https://sc
 hnappen.at/oesterreich/index.php?option=com_jem&view=event&id=362:seefests
 piele\n
DTSTART;VALUE=DATE:20260716
DTEND;VALUE=DATE:20260717
LOCATION:Mörbisch am Neusiedlersee\,Strand\,7072 Mörbisch
SUMMARY:Seefestspiele Mörbisch 2026: Premiere 'Ein Käfig voller Narren'
URL:https://schnappen.at/oesterreich/index.php?option=com_jem&view=event&id
 =362:seefestspiele
END:VEVENT
END:VCALENDAR