BEGIN:VCALENDAR
VERSION:2.0
PRODID:-//81.88.36.52//NONSGML kigkonsult.se iCalcreator 2.20//
CALSCALE:GREGORIAN
METHOD:PUBLISH
X-WR-TIMEZONE:Europe/Vienna
BEGIN:VEVENT
UID:event355@Online-Magazin SCHNAPPEN.AT: die interessanten Seiten des Lebe
 ns
DTSTAMP:20260425T122209Z
CATEGORIES:Termine noch offen
DESCRIPTION:Weinlesefest Tattendorf\nKategorie: Termine noch offen\nICS-Lin
 k: https://schnappen.at/oesterreich/index.php?option=com_jem&view=event&id
 =355:weinlesefest-tattendorf\n
DTSTART;TZID=Europe/Vienna:20260920T130000
DTEND;TZID=Europe/Vienna:20260920T130000
LOCATION:Tattendorf Heurigendorf\,dumbapark 1\,2523 Tattendorf
SUMMARY:Weinlesefest Tattendorf
URL:https://schnappen.at/oesterreich/index.php?option=com_jem&view=event&id
 =355:weinlesefest-tattendorf
END:VEVENT
END:VCALENDAR