BEGIN:VCALENDAR
VERSION:2.0
PRODID:-//81.88.36.52//NONSGML kigkonsult.se iCalcreator 2.20//
CALSCALE:GREGORIAN
METHOD:PUBLISH
X-WR-TIMEZONE:Europe/Vienna
BEGIN:VEVENT
UID:event353@Online-Magazin SCHNAPPEN.AT: die interessanten Seiten des Lebe
 ns
DTSTAMP:20260425T163108Z
CATEGORIES:Veranstaltungen
DESCRIPTION:Andreas Vitasek\nKategorie: Veranstaltungen\nICS-Link: https://
 schnappen.at/oesterreich/index.php?option=com_jem&view=event&id=353:andrea
 s-vitasek\n
DTSTART;VALUE=DATE:20260501
DTEND;VALUE=DATE:20260502
LOCATION:Rabenhof Theater\,Rabengasse 3\,1030 wien
SUMMARY:Andreas Vitasek
URL:https://schnappen.at/oesterreich/index.php?option=com_jem&view=event&id
 =353:andreas-vitasek
END:VEVENT
END:VCALENDAR