BEGIN:VCALENDAR
VERSION:2.0
PRODID:-//81.88.36.52//NONSGML kigkonsult.se iCalcreator 2.20//
CALSCALE:GREGORIAN
METHOD:PUBLISH
X-WR-TIMEZONE:Europe/Vienna
BEGIN:VEVENT
UID:event34@Online-Magazin SCHNAPPEN.AT: die interessanten Seiten des Leben
 s
DTSTAMP:20260425T121653Z
CATEGORIES:Flohmarkt\, Oldtimer
DESCRIPTION:Flohmarkt Wien\nKategorie: Flohmarkt\, Oldtimer\nICS-Link: http
 s://schnappen.at/oesterreich/index.php?option=com_jem&view=event&id=34:flo
 hmarkt\n
DTSTART;VALUE=DATE:20280408
DTEND;VALUE=DATE:20280409
LOCATION:Naschmarkt Wien\,Kettenbrückengasse\,1060 Wien
SUMMARY:Flohmarkt Wien
URL:https://schnappen.at/oesterreich/index.php?option=com_jem&view=event&id
 =34:flohmarkt
END:VEVENT
END:VCALENDAR