BEGIN:VCALENDAR
VERSION:2.0
PRODID:-//81.88.36.52//NONSGML kigkonsult.se iCalcreator 2.20//
CALSCALE:GREGORIAN
METHOD:PUBLISH
X-WR-TIMEZONE:Europe/Vienna
BEGIN:VEVENT
UID:event349@Online-Magazin SCHNAPPEN.AT: die interessanten Seiten des Lebe
 ns
DTSTAMP:20260425T122208Z
CATEGORIES:Veranstaltungen
DESCRIPTION:Kabarettist Herbert Steinböck\nKategorie: Veranstaltungen\nICS-
 Link: https://schnappen.at/oesterreich/index.php?option=com_jem&view=event
 &id=349:kabarettist-steinboeck\n
DTSTART;VALUE=DATE:20261203
DTEND;VALUE=DATE:20261204
SUMMARY:Kabarettist Herbert Steinböck
URL:https://schnappen.at/oesterreich/index.php?option=com_jem&view=event&id
 =349:kabarettist-steinboeck
END:VEVENT
END:VCALENDAR