BEGIN:VCALENDAR
VERSION:2.0
PRODID:-//81.88.36.52//NONSGML kigkonsult.se iCalcreator 2.20//
CALSCALE:GREGORIAN
METHOD:PUBLISH
X-WR-TIMEZONE:Europe/Vienna
BEGIN:VEVENT
UID:event346@Online-Magazin SCHNAPPEN.AT: die interessanten Seiten des Lebe
 ns
DTSTAMP:20260425T121233Z
CATEGORIES:Veranstaltungen
DESCRIPTION:Thomas Strobl\, der österreichische Kabarettist\nKategorie: Ver
 anstaltungen\nICS-Link: https://schnappen.at/oesterreich/index.php?option=
 com_jem&view=event&id=346:thomas-strobl\n
DTSTART;VALUE=DATE:20260509
DTEND;VALUE=DATE:20260510
LOCATION:CasaNova in Wien\,Dorotheergasse 6-8\,1010 Wien
SUMMARY:Thomas Strobl\, der österreichische Kabarettist
URL:https://schnappen.at/oesterreich/index.php?option=com_jem&view=event&id
 =346:thomas-strobl
END:VEVENT
END:VCALENDAR