BEGIN:VCALENDAR
VERSION:2.0
PRODID:-//81.88.36.52//NONSGML kigkonsult.se iCalcreator 2.20//
CALSCALE:GREGORIAN
METHOD:PUBLISH
X-WR-TIMEZONE:Europe/Vienna
BEGIN:VEVENT
UID:event324@Online-Magazin SCHNAPPEN.AT: die interessanten Seiten des Lebe
 ns
DTSTAMP:20260425T121811Z
CATEGORIES:Flohmarkt\, Oldtimer
DESCRIPTION:Flohmarkt Wien\nKategorie: Flohmarkt\, Oldtimer\nICS-Link: http
 s://schnappen.at/oesterreich/index.php?option=com_jem&view=event&id=324:fl
 ohmarkt\n
DTSTART;VALUE=DATE:20270904
DTEND;VALUE=DATE:20270905
LOCATION:Naschmarkt Wien\,Kettenbrückengasse\,1060 Wien
SUMMARY:Flohmarkt Wien
URL:https://schnappen.at/oesterreich/index.php?option=com_jem&view=event&id
 =324:flohmarkt
END:VEVENT
END:VCALENDAR