BEGIN:VCALENDAR
VERSION:2.0
PRODID:-//81.88.36.52//NONSGML kigkonsult.se iCalcreator 2.20//
CALSCALE:GREGORIAN
METHOD:PUBLISH
X-WR-TIMEZONE:Europe/Vienna
BEGIN:VEVENT
UID:event309@Online-Magazin SCHNAPPEN.AT: die interessanten Seiten des Lebe
 ns
DTSTAMP:20260425T122022Z
CATEGORIES:Veranstaltungen
DESCRIPTION:Ruster Herbst Zeitlos 2026\nKategorie: Veranstaltungen\nICS-Lin
 k: https://schnappen.at/oesterreich/index.php?option=com_jem&view=event&id
 =309:ruster-weinwoche\n
DTSTART;VALUE=DATE:20261023
DTEND;VALUE=DATE:20261025
LOCATION:Rust am Neusiedlersee\,Hauptstraße\,7071 rust
SUMMARY:Ruster Herbst Zeitlos 2026
URL:https://schnappen.at/oesterreich/index.php?option=com_jem&view=event&id
 =309:ruster-weinwoche
END:VEVENT
END:VCALENDAR