BEGIN:VCALENDAR
VERSION:2.0
PRODID:-//81.88.36.52//NONSGML kigkonsult.se iCalcreator 2.20//
CALSCALE:GREGORIAN
METHOD:PUBLISH
X-WR-TIMEZONE:Europe/Vienna
BEGIN:VEVENT
UID:event308@Online-Magazin SCHNAPPEN.AT: die interessanten Seiten des Lebe
 ns
DTSTAMP:20260425T121951Z
CATEGORIES:Veranstaltungen
DESCRIPTION:Gästekonzert Musikverein Rust\nKategorie: Veranstaltungen\nICS-
 Link: https://schnappen.at/oesterreich/index.php?option=com_jem&view=event
 &id=308:musikverein-rust\n
DTSTART;TZID=Europe/Vienna:20260703T193000
DTEND;TZID=Europe/Vienna:20260703T193000
LOCATION:Rust am Neusiedlersee\,Hauptstraße\,7071 rust
SUMMARY:Gästekonzert Musikverein Rust
URL:https://schnappen.at/oesterreich/index.php?option=com_jem&view=event&id
 =308:musikverein-rust
END:VEVENT
END:VCALENDAR