BEGIN:VCALENDAR
VERSION:2.0
PRODID:-//81.88.36.52//NONSGML kigkonsult.se iCalcreator 2.20//
CALSCALE:GREGORIAN
METHOD:PUBLISH
X-WR-TIMEZONE:Europe/Vienna
BEGIN:VEVENT
UID:event280@Online-Magazin SCHNAPPEN.AT: die interessanten Seiten des Lebe
 ns
DTSTAMP:20260425T121647Z
CATEGORIES:Veranstaltungen
DESCRIPTION:Thomas Stipsits & Viktor Gernot Kabarett\nKategorie: Veranstalt
 ungen\nICS-Link: https://schnappen.at/oesterreich/index.php?option=com_jem
 &view=event&id=280:stipsits\n
DTSTART;VALUE=DATE:20261012
DTEND;VALUE=DATE:20261013
LOCATION:Marx Halle / Globe Wien\,Karl Farkas Gasse 19\,1030  Wien
SUMMARY:Thomas Stipsits & Viktor Gernot Kabarett
URL:https://schnappen.at/oesterreich/index.php?option=com_jem&view=event&id
 =280:stipsits
END:VEVENT
END:VCALENDAR