BEGIN:VCALENDAR
VERSION:2.0
PRODID:-//81.88.36.52//NONSGML kigkonsult.se iCalcreator 2.20//
CALSCALE:GREGORIAN
METHOD:PUBLISH
X-WR-TIMEZONE:Europe/Vienna
BEGIN:VEVENT
UID:event257@Online-Magazin SCHNAPPEN.AT: die interessanten Seiten des Lebe
 ns
DTSTAMP:20260425T122101Z
CATEGORIES:Veranstaltungen
DESCRIPTION:Helene Fischer in Österreich und Deutschland\nKategorie: Verans
 taltungen\nICS-Link: https://schnappen.at/oesterreich/index.php?option=com
 _jem&view=event&id=257:helene-fischer\n
DTSTART;VALUE=DATE:20260711
DTEND;VALUE=DATE:20260712
LOCATION:Ernst Happel Stadion\,Meiereistr. 7\,1020 Wien
SUMMARY:Helene Fischer in Österreich und Deutschland
URL:https://schnappen.at/oesterreich/index.php?option=com_jem&view=event&id
 =257:helene-fischer
END:VEVENT
END:VCALENDAR