BEGIN:VCALENDAR
VERSION:2.0
PRODID:-//81.88.36.52//NONSGML kigkonsult.se iCalcreator 2.20//
CALSCALE:GREGORIAN
METHOD:PUBLISH
X-WR-TIMEZONE:Europe/Vienna
BEGIN:VEVENT
UID:event246@Online-Magazin SCHNAPPEN.AT: die interessanten Seiten des Lebe
 ns
DTSTAMP:20260425T121943Z
CATEGORIES:Wir berichten über...\, Ballkalender & Balltermine
DESCRIPTION:Ball der Offiziere\nKategorie: Wir berichten über...\, Ballkale
 nder & Balltermine\nICS-Link: https://schnappen.at/oesterreich/index.php?o
 ption=com_jem&view=event&id=246:ball-offiziere\n
DTSTART;VALUE=DATE:20270115
DTEND;VALUE=DATE:20270116
LOCATION:Hofburg Wien\,Michaelerkuppel\,1010 Wien
SUMMARY:Ball der Offiziere
URL:https://schnappen.at/oesterreich/index.php?option=com_jem&view=event&id
 =246:ball-offiziere
END:VEVENT
END:VCALENDAR