BEGIN:VCALENDAR
VERSION:2.0
PRODID:-//81.88.36.52//NONSGML kigkonsult.se iCalcreator 2.20//
CALSCALE:GREGORIAN
METHOD:PUBLISH
X-WR-TIMEZONE:Europe/Vienna
BEGIN:VEVENT
UID:event244@Online-Magazin SCHNAPPEN.AT: die interessanten Seiten des Lebe
 ns
DTSTAMP:20260425T121831Z
CATEGORIES:Ballkalender & Balltermine
DESCRIPTION:WU-Ball 2027 in der Hofburg\nKategorie: Ballkalender & Ballterm
 ine\nICS-Link: https://schnappen.at/oesterreich/index.php?option=com_jem&v
 iew=event&id=244:wu-ball\n
DTSTART;VALUE=DATE:20270109
DTEND;VALUE=DATE:20270110
LOCATION:Hofburg Wien\,Michaelerkuppel\,1010 Wien
SUMMARY:WU-Ball 2027 in der Hofburg
URL:https://schnappen.at/oesterreich/index.php?option=com_jem&view=event&id
 =244:wu-ball
END:VEVENT
END:VCALENDAR