BEGIN:VCALENDAR
VERSION:2.0
PRODID:-//81.88.36.52//NONSGML kigkonsult.se iCalcreator 2.20//
CALSCALE:GREGORIAN
METHOD:PUBLISH
X-WR-TIMEZONE:Europe/Vienna
BEGIN:VEVENT
UID:event243@Online-Magazin SCHNAPPEN.AT: die interessanten Seiten des Lebe
 ns
DTSTAMP:20260425T121916Z
CATEGORIES:Wir berichten über...\, Ballkalender & Balltermine
DESCRIPTION:Steirerball in Wien\nKategorie: Wir berichten über...\, Ballkal
 ender & Balltermine\nICS-Link: https://schnappen.at/oesterreich/index.php?
 option=com_jem&view=event&id=243:steirerball\n
DTSTART;VALUE=DATE:20270108
DTEND;VALUE=DATE:20270109
LOCATION:Hofburg Wien\,Michaelerkuppel\,1010 Wien
SUMMARY:Steirerball in Wien
URL:https://schnappen.at/oesterreich/index.php?option=com_jem&view=event&id
 =243:steirerball
END:VEVENT
END:VCALENDAR