BEGIN:VCALENDAR
VERSION:2.0
PRODID:-//81.88.36.52//NONSGML kigkonsult.se iCalcreator 2.20//
CALSCALE:GREGORIAN
METHOD:PUBLISH
X-WR-TIMEZONE:Europe/Vienna
BEGIN:VEVENT
UID:event234@Online-Magazin SCHNAPPEN.AT: die interessanten Seiten des Lebe
 ns
DTSTAMP:20260425T121939Z
CATEGORIES:Bauernmarkt & Adventmaerkte
DESCRIPTION:Adventmarkt Burg Forchtenstein\nKategorie: Bauernmarkt & Advent
 maerkte\nICS-Link: https://schnappen.at/oesterreich/index.php?option=com_j
 em&view=event&id=234:adventmarkt-forchtenstein\n
DTSTART;VALUE=DATE:20261128
DTEND;VALUE=DATE:20261130
LOCATION:Forchtenstein\, Hauptstr.\, 7212 Forchtenstein
SUMMARY:Adventmarkt Burg Forchtenstein
URL:https://schnappen.at/oesterreich/index.php?option=com_jem&view=event&id
 =234:adventmarkt-forchtenstein
END:VEVENT
END:VCALENDAR