BEGIN:VCALENDAR
VERSION:2.0
PRODID:-//81.88.36.52//NONSGML kigkonsult.se iCalcreator 2.20//
CALSCALE:GREGORIAN
METHOD:PUBLISH
X-WR-TIMEZONE:Europe/Vienna
BEGIN:VEVENT
UID:event229@Online-Magazin SCHNAPPEN.AT: die interessanten Seiten des Lebe
 ns
DTSTAMP:20260425T121953Z
CATEGORIES:Veranstaltungen
DESCRIPTION:Karikaturmuseum Krems: Events & Ausstellungen\nKategorie: Veran
 staltungen\nICS-Link: https://schnappen.at/oesterreich/index.php?option=co
 m_jem&view=event&id=229:karikaturmuseum\n
DTSTART;VALUE=DATE:20260426
DTEND;VALUE=DATE:20260427
SUMMARY:Karikaturmuseum Krems: Events & Ausstellungen
URL:https://schnappen.at/oesterreich/index.php?option=com_jem&view=event&id
 =229:karikaturmuseum
END:VEVENT
END:VCALENDAR