BEGIN:VCALENDAR
VERSION:2.0
PRODID:-//81.88.36.52//NONSGML kigkonsult.se iCalcreator 2.20//
CALSCALE:GREGORIAN
METHOD:PUBLISH
X-WR-TIMEZONE:Europe/Vienna
BEGIN:VEVENT
UID:event226@Online-Magazin SCHNAPPEN.AT: die interessanten Seiten des Lebe
 ns
DTSTAMP:20260425T105503Z
CATEGORIES:Veranstaltungen
DESCRIPTION:Vievinum: Internationales Weinfestival\nKategorie: Veranstaltun
 gen\nICS-Link: https://schnappen.at/oesterreich/index.php?option=com_jem&v
 iew=event&id=226:vievinum\n
DTSTART;VALUE=DATE:20260516
DTEND;VALUE=DATE:20260519
LOCATION:Hofburg Wien\,Michaelerkuppel\,1010 Wien
SUMMARY:Vievinum: Internationales Weinfestival
URL:https://schnappen.at/oesterreich/index.php?option=com_jem&view=event&id
 =226:vievinum
END:VEVENT
END:VCALENDAR