BEGIN:VCALENDAR
VERSION:2.0
PRODID:-//81.88.36.52//NONSGML kigkonsult.se iCalcreator 2.20//
CALSCALE:GREGORIAN
METHOD:PUBLISH
X-WR-TIMEZONE:Europe/Vienna
BEGIN:VEVENT
UID:event2233@Online-Magazin SCHNAPPEN.AT: die interessanten Seiten des Leb
 ens
DTSTAMP:20260425T121111Z
CATEGORIES:Veranstaltungen
DESCRIPTION:Die italienische Schlagernacht: Al Bano & Romina Power\nKategor
 ie: Veranstaltungen\nICS-Link: https://schnappen.at/oesterreich/index.php?
 option=com_jem&view=event&id=2233:schlager-italien\n
DTSTART;VALUE=DATE:20260811
DTEND;VALUE=DATE:20260812
LOCATION:Mörbisch am Neusiedlersee\,Strand\,7072 Mörbisch
SUMMARY:Die italienische Schlagernacht: Al Bano & Romina Power
URL:https://schnappen.at/oesterreich/index.php?option=com_jem&view=event&id
 =2233:schlager-italien
END:VEVENT
END:VCALENDAR