BEGIN:VCALENDAR
VERSION:2.0
PRODID:-//81.88.36.52//NONSGML kigkonsult.se iCalcreator 2.20//
CALSCALE:GREGORIAN
METHOD:PUBLISH
X-WR-TIMEZONE:Europe/Vienna
BEGIN:VEVENT
UID:event2231@Online-Magazin SCHNAPPEN.AT: die interessanten Seiten des Leb
 ens
DTSTAMP:20260425T120936Z
CATEGORIES:Veranstaltungen
DESCRIPTION:Paul Klambauer\nKategorie: Veranstaltungen\nICS-Link: https://s
 chnappen.at/oesterreich/index.php?option=com_jem&view=event&id=2231:klamba
 uer\n
DTSTART;VALUE=DATE:20260425
DTEND;VALUE=DATE:20260426
SUMMARY:Paul Klambauer
URL:https://schnappen.at/oesterreich/index.php?option=com_jem&view=event&id
 =2231:klambauer
END:VEVENT
END:VCALENDAR