BEGIN:VCALENDAR
VERSION:2.0
PRODID:-//81.88.36.52//NONSGML kigkonsult.se iCalcreator 2.20//
CALSCALE:GREGORIAN
METHOD:PUBLISH
X-WR-TIMEZONE:Europe/Vienna
BEGIN:VEVENT
UID:event2230@Online-Magazin SCHNAPPEN.AT: die interessanten Seiten des Leb
 ens
DTSTAMP:20260425T121037Z
CATEGORIES:Veranstaltungen\, Wir berichten über...
DESCRIPTION:Wiener Opernsommer & die Oper 'Carmen'\nKategorie: Veranstaltun
 gen\, Wir berichten über...\nICS-Link: https://schnappen.at/oesterreich/in
 dex.php?option=com_jem&view=event&id=2230:opernsommer\n
DTSTART;VALUE=DATE:20260701
DTEND;VALUE=DATE:20260719
LOCATION:Wiener Heumarkt\,Lothringerstraße 22\,1030 Wien
SUMMARY:Wiener Opernsommer & die Oper 'Carmen'
URL:https://schnappen.at/oesterreich/index.php?option=com_jem&view=event&id
 =2230:opernsommer
END:VEVENT
END:VCALENDAR