BEGIN:VCALENDAR
VERSION:2.0
PRODID:-//81.88.36.52//NONSGML kigkonsult.se iCalcreator 2.20//
CALSCALE:GREGORIAN
METHOD:PUBLISH
X-WR-TIMEZONE:Europe/Vienna
BEGIN:VEVENT
UID:event2226@Online-Magazin SCHNAPPEN.AT: die interessanten Seiten des Leb
 ens
DTSTAMP:20260425T121034Z
CATEGORIES:Veranstaltungen
DESCRIPTION:Indie Ohren Festival in Graz\nKategorie: Veranstaltungen\nICS-L
 ink: https://schnappen.at/oesterreich/index.php?option=com_jem&view=event&
 id=2226:indieohren\n
DTSTART;VALUE=DATE:20261024
DTEND;VALUE=DATE:20261025
LOCATION:Messeturm Stadthalle Graz\,Messeplatz 1\,8010 Graz
SUMMARY:Indie Ohren Festival in Graz
URL:https://schnappen.at/oesterreich/index.php?option=com_jem&view=event&id
 =2226:indieohren
END:VEVENT
END:VCALENDAR