BEGIN:VCALENDAR
VERSION:2.0
PRODID:-//81.88.36.52//NONSGML kigkonsult.se iCalcreator 2.20//
CALSCALE:GREGORIAN
METHOD:PUBLISH
X-WR-TIMEZONE:Europe/Vienna
BEGIN:VEVENT
UID:event2223@Online-Magazin SCHNAPPEN.AT: die interessanten Seiten des Leb
 ens
DTSTAMP:20260425T104752Z
CATEGORIES:Veranstaltungen
DESCRIPTION:SBÄM Fest in Wels\nKategorie: Veranstaltungen\nICS-Link: https:
 //schnappen.at/oesterreich/index.php?option=com_jem&view=event&id=2223:sba
 m\n
DTSTART;VALUE=DATE:20260605
DTEND;VALUE=DATE:20260607
SUMMARY:SBÄM Fest in Wels
URL:https://schnappen.at/oesterreich/index.php?option=com_jem&view=event&id
 =2223:sbam
END:VEVENT
END:VCALENDAR