BEGIN:VCALENDAR
VERSION:2.0
PRODID:-//81.88.36.52//NONSGML kigkonsult.se iCalcreator 2.20//
CALSCALE:GREGORIAN
METHOD:PUBLISH
X-WR-TIMEZONE:Europe/Vienna
BEGIN:VEVENT
UID:event2222@Online-Magazin SCHNAPPEN.AT: die interessanten Seiten des Leb
 ens
DTSTAMP:20260425T121037Z
CATEGORIES:Veranstaltungen
DESCRIPTION:Most & Jazz in Fehring\nKategorie: Veranstaltungen\nICS-Link: h
 ttps://schnappen.at/oesterreich/index.php?option=com_jem&view=event&id=222
 2:most-jazz\n
DTSTART;VALUE=DATE:20260911
DTEND;VALUE=DATE:20260914
SUMMARY:Most & Jazz in Fehring
URL:https://schnappen.at/oesterreich/index.php?option=com_jem&view=event&id
 =2222:most-jazz
END:VEVENT
END:VCALENDAR