BEGIN:VCALENDAR
VERSION:2.0
PRODID:-//81.88.36.52//NONSGML kigkonsult.se iCalcreator 2.20//
CALSCALE:GREGORIAN
METHOD:PUBLISH
X-WR-TIMEZONE:Europe/Vienna
BEGIN:VEVENT
UID:event2220@Online-Magazin SCHNAPPEN.AT: die interessanten Seiten des Leb
 ens
DTSTAMP:20260425T120936Z
CATEGORIES:Wir berichten über...\, Veranstaltungen
DESCRIPTION:Jason Derulo in Österreich und Deutschland\nKategorie: Wir beri
 chten über...\, Veranstaltungen\nICS-Link: https://schnappen.at/oesterreic
 h/index.php?option=com_jem&view=event&id=2220:derulo\n
DTSTART;VALUE=DATE:20260714
DTEND;VALUE=DATE:20260715
LOCATION:Wiener Stadthalle\,Dr. Roland Rainer Platz 1\,1150 Wien
SUMMARY:Jason Derulo in Österreich und Deutschland
URL:https://schnappen.at/oesterreich/index.php?option=com_jem&view=event&id
 =2220:derulo
END:VEVENT
END:VCALENDAR