BEGIN:VCALENDAR
VERSION:2.0
PRODID:-//81.88.36.52//NONSGML kigkonsult.se iCalcreator 2.20//
CALSCALE:GREGORIAN
METHOD:PUBLISH
X-WR-TIMEZONE:Europe/Vienna
BEGIN:VEVENT
UID:event2215@Online-Magazin SCHNAPPEN.AT: die interessanten Seiten des Leb
 ens
DTSTAMP:20260425T122208Z
CATEGORIES:Termine noch offen
DESCRIPTION:Feuerwehrball Oberwaltersdorf\nKategorie: Termine noch offen\nI
 CS-Link: https://schnappen.at/oesterreich/index.php?option=com_jem&view=ev
 ent&id=2215:ball-oberwaltersdorf\n
DTSTART;VALUE=DATE:20270123
DTEND;VALUE=DATE:20270124
LOCATION:Bettfedernfabrik Oberwaltersdorf\,Kulturstr. 1\,2522 Oberwaltersdo
 rf
SUMMARY:Feuerwehrball Oberwaltersdorf
URL:https://schnappen.at/oesterreich/index.php?option=com_jem&view=event&id
 =2215:ball-oberwaltersdorf
END:VEVENT
END:VCALENDAR