BEGIN:VCALENDAR
VERSION:2.0
PRODID:-//81.88.36.52//NONSGML kigkonsult.se iCalcreator 2.20//
CALSCALE:GREGORIAN
METHOD:PUBLISH
X-WR-TIMEZONE:Europe/Vienna
BEGIN:VEVENT
UID:event2211@Online-Magazin SCHNAPPEN.AT: die interessanten Seiten des Leb
 ens
DTSTAMP:20260425T121630Z
CATEGORIES:Termine noch offen
DESCRIPTION:Violetter Ball im Marriott\nKategorie: Termine noch offen\nICS-
 Link: https://schnappen.at/oesterreich/index.php?option=com_jem&view=event
 &id=2211:violetter-ball\n
DTSTART;TZID=Europe/Vienna:20270116T210000
DTEND;TZID=Europe/Vienna:20270116T210000
SUMMARY:Violetter Ball im Marriott
URL:https://schnappen.at/oesterreich/index.php?option=com_jem&view=event&id
 =2211:violetter-ball
END:VEVENT
END:VCALENDAR