BEGIN:VCALENDAR
VERSION:2.0
PRODID:-//81.88.36.52//NONSGML kigkonsult.se iCalcreator 2.20//
CALSCALE:GREGORIAN
METHOD:PUBLISH
X-WR-TIMEZONE:Europe/Vienna
BEGIN:VEVENT
UID:event2208@Online-Magazin SCHNAPPEN.AT: die interessanten Seiten des Leb
 ens
DTSTAMP:20260425T121631Z
CATEGORIES:Termine noch offen
DESCRIPTION:Wiener Pfadiball\nKategorie: Termine noch offen\nICS-Link: http
 s://schnappen.at/oesterreich/index.php?option=com_jem&view=event&id=2208:p
 fadiball\n
DTSTART;VALUE=DATE:20270123
DTEND;VALUE=DATE:20270124
LOCATION:Palais Auersperg\,Auerspergstraße 1\,1080 Wien
SUMMARY:Wiener Pfadiball
URL:https://schnappen.at/oesterreich/index.php?option=com_jem&view=event&id
 =2208:pfadiball
END:VEVENT
END:VCALENDAR