BEGIN:VCALENDAR
VERSION:2.0
PRODID:-//81.88.36.52//NONSGML kigkonsult.se iCalcreator 2.20//
CALSCALE:GREGORIAN
METHOD:PUBLISH
X-WR-TIMEZONE:Europe/Vienna
BEGIN:VEVENT
UID:event2196@Online-Magazin SCHNAPPEN.AT: die interessanten Seiten des Leb
 ens
DTSTAMP:20260425T121208Z
CATEGORIES:Veranstaltungen
DESCRIPTION:Club Loop: Events\nKategorie: Veranstaltungen\nICS-Link: https:
 //schnappen.at/oesterreich/index.php?option=com_jem&view=event&id=2196:loo
 p\n
DTSTART;VALUE=DATE:20260504
DTEND;VALUE=DATE:20260505
LOCATION:Club Loop\,Stadtbahnbögen 26/27\,1080 Wien
SUMMARY:Club Loop: Events
URL:https://schnappen.at/oesterreich/index.php?option=com_jem&view=event&id
 =2196:loop
END:VEVENT
END:VCALENDAR