BEGIN:VCALENDAR
VERSION:2.0
PRODID:-//81.88.36.52//NONSGML kigkonsult.se iCalcreator 2.20//
CALSCALE:GREGORIAN
METHOD:PUBLISH
X-WR-TIMEZONE:Europe/Vienna
BEGIN:VEVENT
UID:event2194@Online-Magazin SCHNAPPEN.AT: die interessanten Seiten des Leb
 ens
DTSTAMP:20260425T110203Z
CATEGORIES:Veranstaltungen
DESCRIPTION:We Came as Romans in Österreich und Deutschland\nKategorie: Ver
 anstaltungen\nICS-Link: https://schnappen.at/oesterreich/index.php?option=
 com_jem&view=event&id=2194:we-came-as-romans\n
DTSTART;VALUE=DATE:20260611
DTEND;VALUE=DATE:20260612
SUMMARY:We Came as Romans in Österreich und Deutschland
URL:https://schnappen.at/oesterreich/index.php?option=com_jem&view=event&id
 =2194:we-came-as-romans
END:VEVENT
END:VCALENDAR