BEGIN:VCALENDAR
VERSION:2.0
PRODID:-//81.88.36.52//NONSGML kigkonsult.se iCalcreator 2.20//
CALSCALE:GREGORIAN
METHOD:PUBLISH
X-WR-TIMEZONE:Europe/Vienna
BEGIN:VEVENT
UID:event2191@Online-Magazin SCHNAPPEN.AT: die interessanten Seiten des Leb
 ens
DTSTAMP:20260425T105307Z
CATEGORIES:Veranstaltungen
DESCRIPTION:Kramladen: Konzerte & Auftritte\nKategorie: Veranstaltungen\nIC
 S-Link: https://schnappen.at/oesterreich/index.php?option=com_jem&view=eve
 nt&id=2191:kramladen\n
DTSTART;VALUE=DATE:20260522
DTEND;VALUE=DATE:20260523
LOCATION:Kramladen Wien\,Lerchenfeldergürtel U-Bahnbogen  39-40\,1080 Wien
SUMMARY:Kramladen: Konzerte & Auftritte
URL:https://schnappen.at/oesterreich/index.php?option=com_jem&view=event&id
 =2191:kramladen
END:VEVENT
END:VCALENDAR