BEGIN:VCALENDAR
VERSION:2.0
PRODID:-//81.88.36.52//NONSGML kigkonsult.se iCalcreator 2.20//
CALSCALE:GREGORIAN
METHOD:PUBLISH
X-WR-TIMEZONE:Europe/Vienna
BEGIN:VEVENT
UID:event218@Online-Magazin SCHNAPPEN.AT: die interessanten Seiten des Lebe
 ns
DTSTAMP:20260425T121943Z
CATEGORIES:Wir berichten über...\, Veranstaltungen
DESCRIPTION:Opernfestspiele 2026: Oper im Steinbruch Premiere von 'Tosca'\n
 Kategorie: Wir berichten über...\, Veranstaltungen\nICS-Link: https://schn
 appen.at/oesterreich/index.php?option=com_jem&view=event&id=218:opernfests
 piele\n
DTSTART;VALUE=DATE:20260715
DTEND;VALUE=DATE:20260716
LOCATION:Steinbruch St. Margarethen\,Römersteinbruch\,7062 St. Margarethen
SUMMARY:Opernfestspiele 2026: Oper im Steinbruch Premiere von 'Tosca'
URL:https://schnappen.at/oesterreich/index.php?option=com_jem&view=event&id
 =218:opernfestspiele
END:VEVENT
END:VCALENDAR