BEGIN:VCALENDAR
VERSION:2.0
PRODID:-//81.88.36.52//NONSGML kigkonsult.se iCalcreator 2.20//
CALSCALE:GREGORIAN
METHOD:PUBLISH
X-WR-TIMEZONE:Europe/Vienna
BEGIN:VEVENT
UID:event2186@Online-Magazin SCHNAPPEN.AT: die interessanten Seiten des Leb
 ens
DTSTAMP:20260425T122248Z
CATEGORIES:Veranstaltungen
DESCRIPTION:Operettenfestival Langenlois 2026\nKategorie: Veranstaltungen\n
 ICS-Link: https://schnappen.at/oesterreich/index.php?option=com_jem&view=e
 vent&id=2186:operettenfestival-langenlois\n
DTSTART;VALUE=DATE:20260723
DTEND;VALUE=DATE:20260809
SUMMARY:Operettenfestival Langenlois 2026
URL:https://schnappen.at/oesterreich/index.php?option=com_jem&view=event&id
 =2186:operettenfestival-langenlois
END:VEVENT
END:VCALENDAR