BEGIN:VCALENDAR
VERSION:2.0
PRODID:-//81.88.36.52//NONSGML kigkonsult.se iCalcreator 2.20//
CALSCALE:GREGORIAN
METHOD:PUBLISH
X-WR-TIMEZONE:Europe/Vienna
BEGIN:VEVENT
UID:event2183@Online-Magazin SCHNAPPEN.AT: die interessanten Seiten des Leb
 ens
DTSTAMP:20260425T110738Z
CATEGORIES:Veranstaltungen
DESCRIPTION:Iron Road For Children\, kurz IRFC in Leoben\nKategorie: Verans
 taltungen\nICS-Link: https://schnappen.at/oesterreich/index.php?option=com
 _jem&view=event&id=2183:iron-road-for-children-kurz-irfc-in-leoben\n
DTSTART;VALUE=DATE:20260620
DTEND;VALUE=DATE:20260622
SUMMARY:Iron Road For Children\, kurz IRFC in Leoben
URL:https://schnappen.at/oesterreich/index.php?option=com_jem&view=event&id
 =2183:iron-road-for-children-kurz-irfc-in-leoben
END:VEVENT
END:VCALENDAR