BEGIN:VCALENDAR
VERSION:2.0
PRODID:-//81.88.36.52//NONSGML kigkonsult.se iCalcreator 2.20//
CALSCALE:GREGORIAN
METHOD:PUBLISH
X-WR-TIMEZONE:Europe/Vienna
BEGIN:VEVENT
UID:event2177@Online-Magazin SCHNAPPEN.AT: die interessanten Seiten des Leb
 ens
DTSTAMP:20260425T121809Z
CATEGORIES:Veranstaltungen
DESCRIPTION:Gary Lux\, Austropopper\nKategorie: Veranstaltungen\nICS-Link: 
 https://schnappen.at/oesterreich/index.php?option=com_jem&view=event&id=21
 77:gary-lux\n
DTSTART;VALUE=DATE:20260722
DTEND;VALUE=DATE:20260723
SUMMARY:Gary Lux\, Austropopper
URL:https://schnappen.at/oesterreich/index.php?option=com_jem&view=event&id
 =2177:gary-lux
END:VEVENT
END:VCALENDAR