BEGIN:VCALENDAR
VERSION:2.0
PRODID:-//81.88.36.52//NONSGML kigkonsult.se iCalcreator 2.20//
CALSCALE:GREGORIAN
METHOD:PUBLISH
X-WR-TIMEZONE:Europe/Vienna
BEGIN:VEVENT
UID:event2169@Online-Magazin SCHNAPPEN.AT: die interessanten Seiten des Leb
 ens
DTSTAMP:20260425T121819Z
CATEGORIES:Termine noch offen
DESCRIPTION:Manntra\, die Rockband aus Kroatien \nKategorie: Termine noch o
 ffen\nICS-Link: https://schnappen.at/oesterreich/index.php?option=com_jem&
 view=event&id=2169:mantra\n
DTSTART;VALUE=DATE:20261003
DTEND;VALUE=DATE:20261004
LOCATION:Szene Wien\,Hauffgasse 26\,1110 Wien
SUMMARY:Manntra\, die Rockband aus Kroatien 
URL:https://schnappen.at/oesterreich/index.php?option=com_jem&view=event&id
 =2169:mantra
END:VEVENT
END:VCALENDAR