BEGIN:VCALENDAR
VERSION:2.0
PRODID:-//81.88.36.52//NONSGML kigkonsult.se iCalcreator 2.20//
CALSCALE:GREGORIAN
METHOD:PUBLISH
X-WR-TIMEZONE:Europe/Vienna
BEGIN:VEVENT
UID:event2167@Online-Magazin SCHNAPPEN.AT: die interessanten Seiten des Leb
 ens
DTSTAMP:20260425T121955Z
CATEGORIES:Veranstaltungen
DESCRIPTION:Faschingsumzug Stegersbach\nKategorie: Veranstaltungen\nICS-Lin
 k: https://schnappen.at/oesterreich/index.php?option=com_jem&view=event&id
 =2167:fasching-stegersbach\n
DTSTART;VALUE=DATE:20270209
DTEND;VALUE=DATE:20270210
SUMMARY:Faschingsumzug Stegersbach
URL:https://schnappen.at/oesterreich/index.php?option=com_jem&view=event&id
 =2167:fasching-stegersbach
END:VEVENT
END:VCALENDAR