BEGIN:VCALENDAR
VERSION:2.0
PRODID:-//81.88.36.52//NONSGML kigkonsult.se iCalcreator 2.20//
CALSCALE:GREGORIAN
METHOD:PUBLISH
X-WR-TIMEZONE:Europe/Vienna
BEGIN:VEVENT
UID:event2164@Online-Magazin SCHNAPPEN.AT: die interessanten Seiten des Leb
 ens
DTSTAMP:20260425T121813Z
CATEGORIES:Veranstaltungen\, Wir berichten über...
DESCRIPTION:Faschingsumzug in Graz\nKategorie: Veranstaltungen\, Wir berich
 ten über...\nICS-Link: https://schnappen.at/oesterreich/index.php?option=c
 om_jem&view=event&id=2164:fasching-graz\n
DTSTART;VALUE=DATE:20270209
DTEND;VALUE=DATE:20270210
SUMMARY:Faschingsumzug in Graz
URL:https://schnappen.at/oesterreich/index.php?option=com_jem&view=event&id
 =2164:fasching-graz
END:VEVENT
END:VCALENDAR