BEGIN:VCALENDAR
VERSION:2.0
PRODID:-//81.88.36.52//NONSGML kigkonsult.se iCalcreator 2.20//
CALSCALE:GREGORIAN
METHOD:PUBLISH
X-WR-TIMEZONE:Europe/Vienna
BEGIN:VEVENT
UID:event2160@Online-Magazin SCHNAPPEN.AT: die interessanten Seiten des Leb
 ens
DTSTAMP:20260425T121937Z
CATEGORIES:Termine noch offen
DESCRIPTION:Steirischer Bauernbundball\nKategorie: Termine noch offen\nICS-
 Link: https://schnappen.at/oesterreich/index.php?option=com_jem&view=event
 &id=2160:bauern-bund\n
DTSTART;VALUE=DATE:20270212
DTEND;VALUE=DATE:20270213
LOCATION:Messeturm Stadthalle Graz\,Messeplatz 1\,8010 Graz
SUMMARY:Steirischer Bauernbundball
URL:https://schnappen.at/oesterreich/index.php?option=com_jem&view=event&id
 =2160:bauern-bund
END:VEVENT
END:VCALENDAR