BEGIN:VCALENDAR
VERSION:2.0
PRODID:-//81.88.36.52//NONSGML kigkonsult.se iCalcreator 2.20//
CALSCALE:GREGORIAN
METHOD:PUBLISH
X-WR-TIMEZONE:Europe/Vienna
BEGIN:VEVENT
UID:event2152@Online-Magazin SCHNAPPEN.AT: die interessanten Seiten des Leb
 ens
DTSTAMP:20260425T121942Z
CATEGORIES:Veranstaltungen
DESCRIPTION:Weana Gspia\, Wienerlied - Ensemble\nKategorie: Veranstaltungen
 \nICS-Link: https://schnappen.at/oesterreich/index.php?option=com_jem&view
 =event&id=2152:weana-gspia\n
DTSTART;TZID=Europe/Vienna:20260922T193000
DTEND;TZID=Europe/Vienna:20260922T193000
SUMMARY:Weana Gspia\, Wienerlied - Ensemble
URL:https://schnappen.at/oesterreich/index.php?option=com_jem&view=event&id
 =2152:weana-gspia
END:VEVENT
END:VCALENDAR