BEGIN:VCALENDAR
VERSION:2.0
PRODID:-//81.88.36.52//NONSGML kigkonsult.se iCalcreator 2.20//
CALSCALE:GREGORIAN
METHOD:PUBLISH
X-WR-TIMEZONE:Europe/Vienna
BEGIN:VEVENT
UID:event214@Online-Magazin SCHNAPPEN.AT: die interessanten Seiten des Lebe
 ns
DTSTAMP:20260425T122102Z
CATEGORIES:Veranstaltungen\, Wir berichten über...
DESCRIPTION:Schloss-Spiele Kobersdorf 2026\nKategorie: Veranstaltungen\, Wi
 r berichten über...\nICS-Link: https://schnappen.at/oesterreich/index.php?
 option=com_jem&view=event&id=214:kobersdorf\n
DTSTART;VALUE=DATE:20260630
DTEND;VALUE=DATE:20260727
LOCATION:Schloss Kobersdorf\,Schloss\,7332 Kobersdorf
SUMMARY:Schloss-Spiele Kobersdorf 2026
URL:https://schnappen.at/oesterreich/index.php?option=com_jem&view=event&id
 =214:kobersdorf
END:VEVENT
END:VCALENDAR