BEGIN:VCALENDAR
VERSION:2.0
PRODID:-//81.88.36.52//NONSGML kigkonsult.se iCalcreator 2.20//
CALSCALE:GREGORIAN
METHOD:PUBLISH
X-WR-TIMEZONE:Europe/Vienna
BEGIN:VEVENT
UID:event2149@Online-Magazin SCHNAPPEN.AT: die interessanten Seiten des Leb
 ens
DTSTAMP:20260425T121920Z
CATEGORIES:Veranstaltungen
DESCRIPTION:Anastacia in Österreich und Deutschland\nKategorie: Veranstaltu
 ngen\nICS-Link: https://schnappen.at/oesterreich/index.php?option=com_jem&
 view=event&id=2149:anastacia\n
DTSTART;VALUE=DATE:20261002
DTEND;VALUE=DATE:20261003
SUMMARY:Anastacia in Österreich und Deutschland
URL:https://schnappen.at/oesterreich/index.php?option=com_jem&view=event&id
 =2149:anastacia
END:VEVENT
END:VCALENDAR