BEGIN:VCALENDAR
VERSION:2.0
PRODID:-//81.88.36.52//NONSGML kigkonsult.se iCalcreator 2.20//
CALSCALE:GREGORIAN
METHOD:PUBLISH
X-WR-TIMEZONE:Europe/Vienna
BEGIN:VEVENT
UID:event2139@Online-Magazin SCHNAPPEN.AT: die interessanten Seiten des Leb
 ens
DTSTAMP:20260425T121810Z
CATEGORIES:Bauernmarkt & Adventmaerkte\, Veranstaltungen
DESCRIPTION:Illumina\, Lichtergarten in Laxenburg\nKategorie: Bauernmarkt &
  Adventmaerkte\, Veranstaltungen\nICS-Link: https://schnappen.at/oesterrei
 ch/index.php?option=com_jem&view=event&id=2139:illumina\n
DTSTART;VALUE=DATE:20261114
DTEND;VALUE=DATE:20270109
SUMMARY:Illumina\, Lichtergarten in Laxenburg
URL:https://schnappen.at/oesterreich/index.php?option=com_jem&view=event&id
 =2139:illumina
END:VEVENT
END:VCALENDAR